BEGIN:VCALENDAR
VERSION:2.0
PRODID:-//7shield - ECPv5.2.1//NONSGML v1.0//EN
CALSCALE:GREGORIAN
METHOD:PUBLISH
X-WR-CALNAME:7shield
X-ORIGINAL-URL:https://www.7shield.eu
X-WR-CALDESC:Events for 7shield
BEGIN:VTIMEZONE
TZID:Europe/Paris
BEGIN:DAYLIGHT
TZOFFSETFROM:+0100
TZOFFSETTO:+0200
TZNAME:CEST
DTSTART:20210328T010000
END:DAYLIGHT
BEGIN:STANDARD
TZOFFSETFROM:+0200
TZOFFSETTO:+0100
TZNAME:CET
DTSTART:20211031T010000
END:STANDARD
END:VTIMEZONE
BEGIN:VEVENT
DTSTART;TZID=Europe/Paris:20211004T080000
DTEND;TZID=Europe/Paris:20211008T170000
DTSTAMP:20260422T105124
CREATED:20210618T064051Z
LAST-MODIFIED:20210618T064051Z
UID:3671-1633334400-1633712400@www.7shield.eu
SUMMARY:CPS4CIP 2021
DESCRIPTION:CPS4CIP 2021 is the second workshop dedicated to cyber-physical security for protecting critical infrastructures that support finance\, energy\, health\, air transport\, communication\, gas\, and water. The secure operation of these critical infrastructures is essential to the security of a nation\, its economy\, and the public’s health and safety. Security incidents in critical infrastructures can directly lead to a violation of users’ safety and privacy\, physical damages\, significant economic impacts on individuals and companies\, and threats to human life while decreasing trust in institutions and questioning their social value. \nTo address all these challenges\, the CPS4CIP workshop has the objective of bringing together security researchers and practitioners from the various verticals of critical infrastructures (such as the financial\, energy\, health\, air transport\, communication\, gas\, and water domains) to rethink cyber-physical security in the light of latest technology developments; e.g.\, Cloud Computing\, Blockchain\, Big Data\, AI\, Internet-of-Things (IoT).
URL:https://www.7shield.eu/event/cps4cip-2021/
LOCATION:Virtual Event
ATTACH;FMTTYPE=image/png:https://www.7shield.eu/wp-content/uploads/2021/06/CPS4CIP-2021.png
END:VEVENT
END:VCALENDAR