BEGIN:VCALENDAR
VERSION:2.0
PRODID:-//7shield - ECPv5.2.1//NONSGML v1.0//EN
CALSCALE:GREGORIAN
METHOD:PUBLISH
X-WR-CALNAME:7shield
X-ORIGINAL-URL:https://www.7shield.eu
X-WR-CALDESC:Events for 7shield
BEGIN:VTIMEZONE
TZID:Europe/Paris
BEGIN:DAYLIGHT
TZOFFSETFROM:+0100
TZOFFSETTO:+0200
TZNAME:CEST
DTSTART:20210328T010000
END:DAYLIGHT
BEGIN:STANDARD
TZOFFSETFROM:+0200
TZOFFSETTO:+0100
TZNAME:CET
DTSTART:20211031T010000
END:STANDARD
END:VTIMEZONE
BEGIN:VEVENT
DTSTART;VALUE=DATE:20210218
DTEND;VALUE=DATE:20210219
DTSTAMP:20260420T081843
CREATED:20220310T104151Z
LAST-MODIFIED:20220310T104151Z
UID:3793-1613606400-1613692799@www.7shield.eu
SUMMARY:Teleconference on ESA Ground Segment security policy and standards with ESOC
DESCRIPTION:
URL:https://www.7shield.eu/event/teleconference-on-esa-ground-segment-security-policy-and-standards-with-esoc/
LOCATION:Virtual Event
CATEGORIES:Workshop
END:VEVENT
END:VCALENDAR