BEGIN:VCALENDAR
VERSION:2.0
PRODID:-//7shield - ECPv5.2.1//NONSGML v1.0//EN
CALSCALE:GREGORIAN
METHOD:PUBLISH
X-WR-CALNAME:7shield
X-ORIGINAL-URL:https://www.7shield.eu
X-WR-CALDESC:Events for 7shield
BEGIN:VTIMEZONE
TZID:Europe/Paris
BEGIN:DAYLIGHT
TZOFFSETFROM:+0100
TZOFFSETTO:+0200
TZNAME:CEST
DTSTART:20210328T010000
END:DAYLIGHT
BEGIN:STANDARD
TZOFFSETFROM:+0200
TZOFFSETTO:+0100
TZNAME:CET
DTSTART:20211031T010000
END:STANDARD
END:VTIMEZONE
BEGIN:VEVENT
DTSTART;VALUE=DATE:20211207
DTEND;VALUE=DATE:20211209
DTSTAMP:20260419T153345
CREATED:20220310T111231Z
LAST-MODIFIED:20220310T111231Z
UID:3810-1638835200-1639007999@www.7shield.eu
SUMMARY:ESA Industry Space Days 2021
DESCRIPTION:ESA’s Industry Space Days (ISD) event fosters cooperation and the sharing of ideas and expertise through partnerships within the space sector. Its focus is to increase the involvement of SMEs in space activities. \n\n\nTo facilitate networking and the establishing of new business contacts\, the event includes: pre-arranged one-to-one meetings\, exhibitions highlighting the innovations and expertise of selected SMEs\, briefings on business opportunities by large groups and institutional organisations\, and conferences on space perspectives and market trends. \nThis event usually takes place at ESA’s Technical Centre in Noordwijk in the Netherlands but due to the COVID-19 pandemic\, ESA moved it online for the first time since its inception in 1999. \nPresentations were web streamed and thousands of prescheduled B2B meetings were held in virtual meeting rooms.
URL:https://www.7shield.eu/event/esa-industry-space-days-2021/
LOCATION:Virtual Event
CATEGORIES:Conference
ATTACH;FMTTYPE=image/png:https://www.7shield.eu/wp-content/uploads/2022/03/Industry_Space_Days_2021.png
END:VEVENT
END:VCALENDAR